BEGIN:VCALENDAR
VERSION:2.0
PRODID:-//ChamberMaster//Event Calendar 2.0//EN
METHOD:PUBLISH
X-PUBLISHED-TTL:P3D
REFRESH-INTERVAL:P3D
CALSCALE:GREGORIAN
BEGIN:VEVENT
DTSTART;VALUE=DATE:20070531
DTEND;VALUE=DATE:20070601
TRANSP:TRANSPARENT
X-MICROSOFT-CDO-ALLDAYEVENT:TRUE
SUMMARY:Buying Luxury Brands - What is the Allure
DESCRIPTION:Learn from the successes of the top luxury brand retailers and understand how they sell their high priced merchandise to both the 'well-heeled' and the aspiring customer.Listen to the insights of our expert panelists:Aldeasa Group (Duty Free at Vancouver International Airport) - Toni Felany\, CEO of Aldeasa Vancouver & President of Aldeasa Canada.Harry Rosen - Douglas Knopp\, Regional Director of BCTiffany & Co. - Robert Ferguson\, Director
X-ALT-DESC;FMTTYPE=text/html:<p>Learn from the successes of the top luxury brand retailers and understand how they sell their high priced merchandise to both the &#39\;well-heeled&#39\; and the aspiring customer.</p><p><strong>Listen to the insights of our expert panelists:</strong></p><p><strong>Aldeasa Group</strong> (Duty Free at Vancouver International Airport) - Toni Felany\, CEO of Aldeasa Vancouver &amp\; President of Aldeasa Canada.</p><p><strong>Harry Rosen</strong> - Douglas Knopp\, Regional Director of BC</p><p><strong>Tiffany &amp\; Co.</strong> - Robert Ferguson\, Director</p>        	  
LOCATION:Four Seasons Hotel
UID:e.9214.3
SEQUENCE:3
DTSTAMP:20260421T101001Z
URL:http://bcsca.memberzone.com/events/details/buying-luxury-brands-what-is-the-allure-05-31-2007-3
END:VEVENT

END:VCALENDAR
