BEGIN:VCALENDAR
VERSION:2.0
PRODID:-//ChamberMaster//Event Calendar 2.0//EN
METHOD:PUBLISH
X-PUBLISHED-TTL:P3D
REFRESH-INTERVAL:P3D
CALSCALE:GREGORIAN
BEGIN:VEVENT
DTSTART;VALUE=DATE:20070809
DTEND;VALUE=DATE:20070810
TRANSP:TRANSPARENT
X-MICROSOFT-CDO-ALLDAYEVENT:TRUE
SUMMARY:BCSCA Annual Golf Tournament
DESCRIPTION:To register\, you must DOWNLOAD printable registration form. Please visit the News & Views section of this website.Mark this date off for our annual golf tournament.
X-ALT-DESC;FMTTYPE=text/html:<p><font color="#ff0000">To register\, you must&nbsp\;DOWNLOAD printable registration form. Please visit the News &amp\; Views section of this website.</font></p><p>Mark this date off for our annual golf tournament.&nbsp\;</p>        	  
LOCATION:University Golf Club 5185 University Blvd.
UID:e.9214.5
SEQUENCE:3
DTSTAMP:20260421T155036Z
URL:http://bcsca.memberzone.com/events/details/bcsca-annual-golf-tournament-08-09-2007-5
END:VEVENT

END:VCALENDAR
